BEGIN:VCALENDAR
VERSION:2.0
PRODID:icalendar-ruby
CALSCALE:GREGORIAN
METHOD:PUBLISH
BEGIN:VEVENT
DTSTAMP:20260423T165528Z
UID:87-1044830@messiahlutheranmqt.org
DTSTART:20261104T220000Z
DTEND:20261104T230000Z
CLASS:PUBLIC
CREATED:20260423T125153
DESCRIPTION:
LAST-MODIFIED:20260423T125153
LOCATION:Sanctuary
SUMMARY:Senior Choir Rehearsal
URL;VALUE=URI:https://messiahlutheranmqt.org/events/senior-choir-rehearsal/
 2026-11-04
ATTACH;FILENAME=Choir_edited.png;FMTTYPE=image/png:https://dq5pwpg1q8ru0.cl
 oudfront.net/2025/05/03/16/01/47/2e7bf6cb-fc35-4e73-b636-38e88f33a78d/Choi
 r_edited.png
END:VEVENT
END:VCALENDAR
